BEGIN:VCALENDAR
VERSION:2.0
CALSCALE:GREGORIAN
PRODID:-//Diputació de Barcelona//DibaCMS//EN
BEGIN:VEVENT
UID:11852
DTSTAMP:20260424T110638
DTSTART:20260503T090000
DTEND:20260503T170000
SUMMARY:Aplec del Pont Nou
LOCATION:
METHOD:PUBLISH
X-WR-CALNAME:st.pereriu@santperederiudebitlles.cat
X-WR-TIMEZONE:Europe/Madrid
DESCRIPTION:9h. Sardinada al camp dels arbres

12h. Sardanes amb la Cobla Catània

13.30h. Arrossada popular

URI:https://www.santperederiudebitlles.cat/actualitat/agenda/11852-aplec-del-pont-nou.html
CLASS:PUBLIC
END:VEVENT
END:VCALENDAR
