BEGIN:VCALENDAR
VERSION:2.0
CALSCALE:GREGORIAN
PRODID:-//Diputació de Barcelona//DibaCMS//EN
BEGIN:VEVENT
UID:1525
DTSTAMP:20260420T114146
DTSTART:20200105T180000
DTEND:20200105T200000
SUMMARY:Cavalcada dels Reis Mags a Sant Pere de Riudebitlles
LOCATION:
METHOD:PUBLISH
X-WR-CALNAME:st.pereriu@santperederiudebitlles.cat
X-WR-TIMEZONE:Europe/Madrid
DESCRIPTION:
URI:https://www.santperederiudebitlles.cat/actualitat/agenda/cavalcada-dels-reis-mags-a-sant-pere-de-riudebitlles.html
CLASS:PUBLIC
END:VEVENT
END:VCALENDAR
