BEGIN:VCALENDAR
VERSION:2.0
CALSCALE:GREGORIAN
PRODID:-//Diputació de Barcelona//DibaCMS//EN
BEGIN:VEVENT
UID:1567
DTSTAMP:20260422T101154
DTSTART:20200115T170000
DTEND:20200115T190000
SUMMARY:Cáritas
LOCATION:
METHOD:PUBLISH
X-WR-CALNAME:st.pereriu@santperederiudebitlles.cat
X-WR-TIMEZONE:Europe/Madrid
DESCRIPTION:Dimecres 15 i 29 de gener

Càritas de 17h a 19h es poden fer les aportacions (econòmiques o amb aliments) al banc d’aliments parroquial al C/ Major, 29

URI:https://www.santperederiudebitlles.cat/actualitat/agenda/caritas.html
CLASS:PUBLIC
END:VEVENT
END:VCALENDAR
