BEGIN:VCALENDAR
VERSION:2.0
CALSCALE:GREGORIAN
PRODID:-//Diputació de Barcelona//DibaCMS//EN
BEGIN:VEVENT
UID:2015
DTSTAMP:20260420T201404
DTSTART:20210127T100000
DTEND:20210127T120000
SUMMARY:Servei podologia Gent Gran
LOCATION:C. Major, 54 08776 Sant Pere de Riudebitlles
METHOD:PUBLISH
X-WR-CALNAME:st.pereriu@santperederiudebitlles.cat
X-WR-TIMEZONE:Europe/Madrid
DESCRIPTION:Cal demanar hora de 10 a 12h al 938995278

URI:https://www.santperederiudebitlles.cat/actualitat/agenda/servei-podologia-gent-gran.html
CLASS:PUBLIC
END:VEVENT
END:VCALENDAR
