BEGIN:VCALENDAR
VERSION:2.0
CALSCALE:GREGORIAN
PRODID:-//Diputació de Barcelona//DibaCMS//EN
BEGIN:VEVENT
UID:4106
DTSTAMP:20260423T171210
DTSTART:20241124T183000
DTEND:20241124T200000
SUMMARY:Teatre al centre: "Casats per amor a la pasta"
LOCATION:C. Nou, 64 08776 Sant Pere de Riudebitlles
METHOD:PUBLISH
X-WR-CALNAME:st.pereriu@santperederiudebitlles.cat
X-WR-TIMEZONE:Europe/Madrid
DESCRIPTION:La companyia LOFTU DE LA MÚNIA presenta l’obra de LLUÍS COQUARD.

Hora: 18.30 h

Lloc: Sala del Centre Cultural i Recreatiu. Gratuït

URI:https://www.santperederiudebitlles.cat/actualitat/agenda/teatre-al-centre-casats-per-amor-a-la-pasta.html
CLASS:PUBLIC
END:VEVENT
END:VCALENDAR
