BEGIN:VCALENDAR
VERSION:2.0
CALSCALE:GREGORIAN
PRODID:-//Diputació de Barcelona//DibaCMS//EN
BEGIN:VEVENT
UID:4323
DTSTAMP:20260420T113325
DTSTART:20250406T103000
DTEND:20250406T130000
SUMMARY:2n Campionat popular de Primavera de bitlles catalanes
LOCATION:
METHOD:PUBLISH
X-WR-CALNAME:st.pereriu@santperederiudebitlles.cat
X-WR-TIMEZONE:Europe/Madrid
DESCRIPTION:Hora: 10.30 h

Lloc: Camp dels Arbres

Organitza: Club de Bitlles Catalanes

Col·labora: Ajuntament de Sant Pere de Riudebitlles,

Centre Cultural i Recreatiu, Olives Blai Peris, Cervesa

Espiga i Cal Bardera – Vins per la Terra.

URI:https://www.santperederiudebitlles.cat/actualitat/agenda/2n-campionat-popular-de-primavera-de-bitlles-catalanes.html
CLASS:PUBLIC
END:VEVENT
END:VCALENDAR
