BEGIN:VCALENDAR
VERSION:2.0
CALSCALE:GREGORIAN
PRODID:-//Diputació de Barcelona//DibaCMS//EN
BEGIN:VEVENT
UID:4667
DTSTAMP:20260420T095541
DTSTART:20251018T113000
DTEND:20251018T170000
SUMMARY:Festa homenatge a la vellesa
LOCATION:
METHOD:PUBLISH
X-WR-CALNAME:st.pereriu@santperederiudebitlles.cat
X-WR-TIMEZONE:Europe/Madrid
DESCRIPTION:11:30h Missa a l’església parroquial

13:00 Benvinguda a la sala del Centre Cultural i Recreatiu i actuació de la Coral Sant Jordi

14h Dinar

Inscripcions i pagament a les Escoles Velles

URI:https://www.santperederiudebitlles.cat/actualitat/agenda/4667-festa-homenatge-a-la-vellesa.html
CLASS:PUBLIC
END:VEVENT
END:VCALENDAR
