BEGIN:VCALENDAR
VERSION:2.0
CALSCALE:GREGORIAN
PRODID:-//Diputació de Barcelona//DibaCMS//EN
BEGIN:VEVENT
UID:4738
DTSTAMP:20260423T101808
DTSTART:20251123T090000
DTEND:20251123T130000
SUMMARY:Caminant, caminant, caminant...
LOCATION:
METHOD:PUBLISH
X-WR-CALNAME:st.pereriu@santperederiudebitlles.cat
X-WR-TIMEZONE:Europe/Madrid
DESCRIPTION:Des de la Plaça del Paper.

Anirem cap al Mas d’en Guilló, seguirem fins a l’ermita de la Mare de Déu del Roser, passarem per les Casetes d’en Raspall i tornarem tranquil·lament cap a Sant Pere.

Durada: unes 3 hores aprox.

Farem una parada de 15 minuts per esmorzar.

Dificultat: Normal

Organitza: Grup de Recerques Històriques

URI:https://www.santperederiudebitlles.cat/actualitat/agenda/4738-caminant-caminant-caminant.html
CLASS:PUBLIC
END:VEVENT
END:VCALENDAR
