BEGIN:VCALENDAR
VERSION:2.0
CALSCALE:GREGORIAN
PRODID:-//Diputació de Barcelona//DibaCMS//EN
BEGIN:VEVENT
UID:4798
DTSTAMP:20260420T095103
DTSTART:20251231T220000
DTEND:20260101T010000
SUMMARY:Sopar de cap d'any i ball
LOCATION:C. Nou, 64 08776 Sant Pere de Riudebitlles
METHOD:PUBLISH
X-WR-CALNAME:st.pereriu@santperederiudebitlles.cat
X-WR-TIMEZONE:Europe/Madrid
DESCRIPTION:Amb Som-hi Band.

URI:https://www.santperederiudebitlles.cat/actualitat/agenda/sopar-de-cap-dany-i-ball.html
CLASS:PUBLIC
END:VEVENT
END:VCALENDAR
