BEGIN:VCALENDAR
VERSION:2.0
CALSCALE:GREGORIAN
PRODID:-//Diputació de Barcelona//DibaCMS//EN
BEGIN:VEVENT
UID:4807
DTSTAMP:20260426T014445
DTSTART:20260121T081500
DTEND:20260121T160000
SUMMARY:Cicle de passejades per a la gent gran
LOCATION:
METHOD:PUBLISH
X-WR-CALNAME:st.pereriu@santperederiudebitlles.cat
X-WR-TIMEZONE:Europe/Madrid
DESCRIPTION:Anem a Lliçà de Vall.

Sortida des de la plaça del Paper (davant el consultori)

Inscripcions fins el 14 de gener a les Escoles Velles.

URI:https://www.santperederiudebitlles.cat/actualitat/agenda/4807-cicle-de-passejades-per-a-la-gent-gran.html
CLASS:PUBLIC
END:VEVENT
END:VCALENDAR
