BEGIN:VCALENDAR
VERSION:2.0
CALSCALE:GREGORIAN
PRODID:-//Diputació de Barcelona//DibaCMS//EN
BEGIN:VEVENT
UID:4808
DTSTAMP:20260426T030015
DTSTART:20260125T190000
DTEND:20260125T200500
SUMMARY:Ball amb Acordies
LOCATION:
METHOD:PUBLISH
X-WR-CALNAME:st.pereriu@santperederiudebitlles.cat
X-WR-TIMEZONE:Europe/Madrid
DESCRIPTION:
URI:https://www.santperederiudebitlles.cat/actualitat/agenda/4808-ball-amb-acordies.html
CLASS:PUBLIC
END:VEVENT
END:VCALENDAR
