BEGIN:VCALENDAR
VERSION:2.0
CALSCALE:GREGORIAN
PRODID:-//Diputació de Barcelona//DibaCMS//EN
BEGIN:VEVENT
UID:4827
DTSTAMP:20260426T014955
DTSTART:20260128T180000
DTEND:20260128T180000
SUMMARY:Narracions Extraordinàries
LOCATION:Casal dels Marquesos de Llió. Major, 42.  08776 Sant Pere de Riudebitlles
METHOD:PUBLISH
X-WR-CALNAME:st.pereriu@santperederiudebitlles.cat
X-WR-TIMEZONE:Europe/Madrid
DESCRIPTION:
URI:https://www.santperederiudebitlles.cat/actualitat/agenda/4827-narracions-extraordinaries.html
CLASS:PUBLIC
END:VEVENT
END:VCALENDAR
