BEGIN:VCALENDAR
VERSION:2.0
CALSCALE:GREGORIAN
PRODID:-//Diputació de Barcelona//DibaCMS//EN
BEGIN:VEVENT
UID:4828
DTSTAMP:20260426T025716
DTSTART:20260129T190000
DTEND:20260129T200000
SUMMARY:Club de Lectura: Les vuit muntanyes, de Paolo Cognetti
LOCATION:
METHOD:PUBLISH
X-WR-CALNAME:st.pereriu@santperederiudebitlles.cat
X-WR-TIMEZONE:Europe/Madrid
DESCRIPTION:
URI:https://www.santperederiudebitlles.cat/actualitat/agenda/club-de-lectura-les-vuit-muntanyes-de-paolo-cognetti.html
CLASS:PUBLIC
END:VEVENT
END:VCALENDAR
