BEGIN:VCALENDAR
VERSION:2.0
CALSCALE:GREGORIAN
PRODID:-//Diputació de Barcelona//DibaCMS//EN
BEGIN:VEVENT
UID:4829
DTSTAMP:20260426T025333
DTSTART:20260131T170000
DTEND:20260131T200000
SUMMARY:Presentació del actes del Centenari del C.E. Riudebitlles
LOCATION:C. Nou, 64 08776 Sant Pere de Riudebitlles
METHOD:PUBLISH
X-WR-CALNAME:st.pereriu@santperederiudebitlles.cat
X-WR-TIMEZONE:Europe/Madrid
DESCRIPTION:
Seguidament, a la sala d'actes del Centre Cultural i Recreatiu, presentació de tots els equips de la temporada 2025-26.
Organitza; Comissió del Centenari, junta del C.E. Riudebitlles,
Ajuntament de St. Pere de Riudebitlles i Federació Catalana de Futbol.


URI:https://www.santperederiudebitlles.cat/actualitat/agenda/presentacio-del-actes-del-centenari-del-ce-riudebitlles.html
CLASS:PUBLIC
END:VEVENT
END:VCALENDAR
