BEGIN:VCALENDAR
VERSION:2.0
CALSCALE:GREGORIAN
PRODID:-//Diputació de Barcelona//DibaCMS//EN
BEGIN:VEVENT
UID:4834
DTSTAMP:20260426T014240
DTSTART:20260125T123000
DTEND:20260125T133000
SUMMARY:Presentació del llibre. "Els grafits dels molins paperers" de David Ribas
LOCATION:carrer de Baix 08776 Sant Pere de Riudebitlles
METHOD:PUBLISH
X-WR-CALNAME:st.pereriu@santperederiudebitlles.cat
X-WR-TIMEZONE:Europe/Madrid
DESCRIPTION:Una recerca única sobre els testimonis gràfics que han deixat generacions de treballadors del paper.

URI:https://www.santperederiudebitlles.cat/actualitat/agenda/presentacio-del-llibre-els-grafits-dels-molins-paperers-de-david-ribas.html
CLASS:PUBLIC
END:VEVENT
END:VCALENDAR
