BEGIN:VCALENDAR
VERSION:2.0
CALSCALE:GREGORIAN
PRODID:-//Diputació de Barcelona//DibaCMS//EN
BEGIN:VEVENT
UID:4848
DTSTAMP:20260426T023255
DTSTART:20260212T170000
DTEND:20260212T200000
SUMMARY:Berenar de dijous gras i carnaval al Casal Municipal de la Gent Gran.
LOCATION:C. Major, 54 08776 Sant Pere de Riudebitlles
METHOD:PUBLISH
X-WR-CALNAME:st.pereriu@santperederiudebitlles.cat
X-WR-TIMEZONE:Europe/Madrid
DESCRIPTION:Preu: 11€

Inscripcions fins el 9 de febrer al Casal.

URI:https://www.santperederiudebitlles.cat/actualitat/agenda/berenar-de-dijous-gras-i-carnaval-al-casal-municipal-de-la-gent-gran.html
CLASS:PUBLIC
END:VEVENT
END:VCALENDAR
